
BEGIN:VCALENDAR
VERSION:2.0
PRODID:-//Highland Consort - ECPv5.2.0//NONSGML v1.0//EN
CALSCALE:GREGORIAN
METHOD:PUBLISH
X-WR-CALNAME:Highland Consort
X-ORIGINAL-URL:http://highlandconsort.com
X-WR-CALDESC:Events for Highland Consort
BEGIN:VTIMEZONE
TZID:America/Chicago
BEGIN:DAYLIGHT
TZOFFSETFROM:-0600
TZOFFSETTO:-0500
TZNAME:CDT
DTSTART:20170312T080000
END:DAYLIGHT
BEGIN:STANDARD
TZOFFSETFROM:-0500
TZOFFSETTO:-0600
TZNAME:CST
DTSTART:20171105T070000
END:STANDARD
END:VTIMEZONE
BEGIN:VEVENT
DTSTART;TZID=America/Chicago:20170711T193000
DTEND;TZID=America/Chicago:20170711T210000
DTSTAMP:20260421T052447
CREATED:20170707T201031Z
LAST-MODIFIED:20170717T180025Z
UID:128-1499801400-1499806800@highlandconsort.com
SUMMARY:67th Sewanee Church Music Conference | Sewanee TN
DESCRIPTION:An evening of choral music by Highland Consort\, under the direction of Dr. Frederick Teardo. Highland Consort joins Sewanee’s 67th Church Music Conference to present a program of the following selections: \nBurial Sentences – William Croft\n(including Henry Purcell’s “Thou knowest\, Lord”)\nWhen David Heard – Thomas Tomkins\nIn pace\, in idipsum dormiam – John Sheppard\nSalvator mundi (ii) – Thomas Tallis\nCivitas sancti tui – William Byrd\nAve verum corpus – William Byrd\nHosanna to the Son of David – Thomas Weelkes\nMass for Four Voices – William Byrd\nLaudibus in sanctis – William Byrd
URL:http://highlandconsort.com/event/highland-consort-at-the-67th-sewanee-church-music-conference/
LOCATION:All Saints Chapel\, 686 University Ave\, Sewanee\, TN\, 37383\, United States
ORGANIZER;CN="Sewanee%20Church%20Music%20Conference":MAILTO:sewaneeconf@gmail.com
END:VEVENT
END:VCALENDAR